BEGIN:VCALENDAR
VERSION:2.0
PRODID:-//Christian Working Woman - ECPv6.15.20//NONSGML v1.0//EN
CALSCALE:GREGORIAN
METHOD:PUBLISH
X-WR-CALNAME:Christian Working Woman
X-ORIGINAL-URL:https://christianworkingwoman.org
X-WR-CALDESC:Events for Christian Working Woman
REFRESH-INTERVAL;VALUE=DURATION:PT1H
X-Robots-Tag:noindex
X-PUBLISHED-TTL:PT1H
BEGIN:VTIMEZONE
TZID:America/Chicago
BEGIN:DAYLIGHT
TZOFFSETFROM:-0600
TZOFFSETTO:-0500
TZNAME:CDT
DTSTART:20240310T080000
END:DAYLIGHT
BEGIN:STANDARD
TZOFFSETFROM:-0500
TZOFFSETTO:-0600
TZNAME:CST
DTSTART:20241103T070000
END:STANDARD
BEGIN:DAYLIGHT
TZOFFSETFROM:-0600
TZOFFSETTO:-0500
TZNAME:CDT
DTSTART:20250309T080000
END:DAYLIGHT
BEGIN:STANDARD
TZOFFSETFROM:-0500
TZOFFSETTO:-0600
TZNAME:CST
DTSTART:20251102T070000
END:STANDARD
BEGIN:DAYLIGHT
TZOFFSETFROM:-0600
TZOFFSETTO:-0500
TZNAME:CDT
DTSTART:20260308T080000
END:DAYLIGHT
BEGIN:STANDARD
TZOFFSETFROM:-0500
TZOFFSETTO:-0600
TZNAME:CST
DTSTART:20261101T070000
END:STANDARD
END:VTIMEZONE
BEGIN:VEVENT
DTSTART;TZID=America/Chicago:20250506T190000
DTEND;TZID=America/Chicago:20250617T210000
DTSTAMP:20260420T034702
CREATED:20250415T050024Z
LAST-MODIFIED:20250618T140519Z
UID:58539-1746558000-1750194000@christianworkingwoman.org
SUMMARY:Zoom Bible Study May/June 2025
DESCRIPTION:As a Christ-follower\, it is not God’s will for you to live in guilt—to allow shame and regret to plague you. Yet many still carry a load of guilt. We will examine this from a biblical perspective\, uncovering how the enemy uses guilt as one of his most powerful weapons to keep us discouraged and defeated. We’ll uncover the root causes of guilt and shame\, the wrong messages you may have believed\, and the condemnation you have accepted that keeps you from the full joy and peace that’s yours in Jesus Christ. Yes\, it is possible to live guilt-free when you know and practice God’s truth.   Please join us in September when we begin a new series. To stay connected on those details\, please signup to receive our Monthly Enewsletter. If you have any questions\, please contact Sherri at tcww@christianworkingwoman.org. 								\n				\n				\n				\n							\n			\n						\n		\n						\n				\n				\n				\n							\n			\n		\n						\n				\n				\n				\n							\n					\n						\n				\n				\n				\n									Lesson Seven Handout 								\n				\n				\n				\n							\n			\n						\n		\n						\n				\n				\n				\n							\n					\n						\n				\n				\n				\n									Lesson Six Handout 								\n				\n				\n				\n							\n			\n						\n		\n						\n				\n				\n				\n							\n					\n						\n				\n				\n				\n									Lesson Five Handout 								\n				\n				\n				\n							\n			\n						\n		\n						\n				\n				\n				\n							\n					\n						\n				\n				\n				\n									Lesson Four Handout 								\n				\n				\n				\n							\n			\n						\n		\n						\n				\n				\n				\n							\n					\n						\n				\n				\n				\n									Lesson Three Handout 								\n				\n				\n				\n							\n			\n						\n		\n						\n				\n				\n				\n							\n					\n						\n				\n				\n				\n									Lesson Two Handout 								\n				\n				\n				\n							\n			\n						\n		\n						\n				\n				\n				\n							\n					\n						\n				\n				\n				\n									Lesson One Handout
URL:https://christianworkingwoman.org/event/zoom-bible-study-may-june-2025/
CATEGORIES:Zoom Bible Studies
ATTACH;FMTTYPE=image/png:https://christianworkingwoman.org/wp-content/uploads/2025/04/Living-Guilt-Free.png
END:VEVENT
END:VCALENDAR