BEGIN:VCALENDAR
VERSION:2.0
PRODID:-//Christian Working Woman - ECPv6.15.20//NONSGML v1.0//EN
CALSCALE:GREGORIAN
METHOD:PUBLISH
X-WR-CALNAME:Christian Working Woman
X-ORIGINAL-URL:https://christianworkingwoman.org
X-WR-CALDESC:Events for Christian Working Woman
REFRESH-INTERVAL;VALUE=DURATION:PT1H
X-Robots-Tag:noindex
X-PUBLISHED-TTL:PT1H
BEGIN:VTIMEZONE
TZID:America/Chicago
BEGIN:DAYLIGHT
TZOFFSETFROM:-0600
TZOFFSETTO:-0500
TZNAME:CDT
DTSTART:20220313T080000
END:DAYLIGHT
BEGIN:STANDARD
TZOFFSETFROM:-0500
TZOFFSETTO:-0600
TZNAME:CST
DTSTART:20221106T070000
END:STANDARD
BEGIN:DAYLIGHT
TZOFFSETFROM:-0600
TZOFFSETTO:-0500
TZNAME:CDT
DTSTART:20230312T080000
END:DAYLIGHT
BEGIN:STANDARD
TZOFFSETFROM:-0500
TZOFFSETTO:-0600
TZNAME:CST
DTSTART:20231105T070000
END:STANDARD
BEGIN:DAYLIGHT
TZOFFSETFROM:-0600
TZOFFSETTO:-0500
TZNAME:CDT
DTSTART:20240310T080000
END:DAYLIGHT
BEGIN:STANDARD
TZOFFSETFROM:-0500
TZOFFSETTO:-0600
TZNAME:CST
DTSTART:20241103T070000
END:STANDARD
END:VTIMEZONE
BEGIN:VEVENT
DTSTART;TZID=America/Chicago:20230110T190000
DTEND;TZID=America/Chicago:20230228T190000
DTSTAMP:20260420T072544
CREATED:20221212T192245Z
LAST-MODIFIED:20230301T144847Z
UID:46537-1673377200-1677610800@christianworkingwoman.org
SUMMARY:Zoom Bible Study Living with an Eternal Perspective
DESCRIPTION:What difference will it make in eternity? That’s the question we’ll address in this study. Living with an eternal perspective offers many amazing benefits for your everyday life. It will decrease your stress\, improve your relationships\, increase your contentment and peace\, and most importantly\, make you more like Jesus. Join us as we discover the biblical principles of how to live with eternal values. \nIf you have any questions\, please contact Sherri at tcww@christianworkingwoman.org. 								\n				\n				\n				\n							\n			\n						\n		\n						\n				\n					\n		\n					\n		\n				\n						\n					\n			\n						\n				\n							\n			\n		\n						\n				\n				\n				\n							\n					\n						\n				\n				\n				\n									Lesson One Handout 								\n				\n				\n				\n							\n			\n						\n		\n						\n				\n				\n				\n							\n					\n						\n				\n				\n				\n									Lesson Two Handout   								\n				\n					\n		\n					\n		\n				\n						\n					\n			\n						\n				\n							\n			\n						\n		\n						\n				\n				\n				\n							\n					\n						\n				\n				\n				\n									Lesson Three Handout 								\n				\n				\n				\n							\n			\n						\n		\n						\n				\n					\n		\n					\n		\n				\n						\n					\n			\n						\n				\n							\n					\n						\n				\n				\n				\n									Lesson Four 								\n				\n				\n				\n							\n			\n						\n		\n						\n				\n					\n		\n					\n		\n				\n						\n					\n			\n						\n				\n							\n					\n						\n				\n				\n				\n									Lesson Five Handout 								\n				\n					\n		\n					\n		\n				\n						\n					\n			\n						\n				\n							\n			\n						\n		\n						\n				\n				\n				\n							\n					\n						\n				\n				\n				\n									Lesson Six Handout | Link to Allie’s Testimony 								\n				\n					\n		\n					\n		\n				\n						\n					\n			\n						\n				\n							\n			\n						\n		\n						\n				\n				\n				\n							\n					\n						\n				\n				\n				\n									Lesson Seven Handout 								\n				\n					\n		\n					\n		\n				\n						\n					\n			\n						\n				\n							\n			\n						\n		\n						\n				\n				\n				\n							\n					\n						\n				\n				\n				\n									Lesson Eight Handout
URL:https://christianworkingwoman.org/event/zoom-bible-study-living-with-an-eternal-perspective/
CATEGORIES:Zoom Bible Studies
ATTACH;FMTTYPE=image/png:https://christianworkingwoman.org/wp-content/uploads/2022/12/Jan-2023-Bible-Study-1.png
END:VEVENT
END:VCALENDAR